BEGIN:VCALENDAR
VERSION:2.0
PRODID:-//aspaciousplace.com//NONSGML kigkonsult.se iCalcreator 2.30.10//
CALSCALE:GREGORIAN
METHOD:PUBLISH
UID:b7e3120b-369e-4834-a313-aafbca7727cb
X-WR-CALDESC:
X-WR-RELCALID:8ee4f51c6aae802e6e4df6ac8852f36d
X-WR-TIMEZONE:America/Chicago
BEGIN:VTIMEZONE
TZID:America/Chicago
BEGIN:STANDARD
TZNAME:CST
DTSTART:20251102T020000
TZOFFSETFROM:-0500
TZOFFSETTO:-0600
RDATE:20261101T020000
END:STANDARD
BEGIN:DAYLIGHT
TZNAME:CDT
DTSTART:20260308T020000
TZOFFSETFROM:-0600
TZOFFSETTO:-0500
RDATE:20270314T020000
END:DAYLIGHT
END:VTIMEZONE
BEGIN:VEVENT
UID:f5f90a31-280e-4b23-905b-8a4646180411
DTSTAMP:20260421T112646Z
DESCRIPTION:
DTSTART;TZID=America/Chicago:20260427T103000
DTEND;TZID=America/Chicago:20260427T123000
LOCATION:119 Cumberland Road\, Austin\, TX 78704 US
SUMMARY:Bona Terra - Cumberland Creativity Classes
END:VEVENT
END:VCALENDAR
