BEGIN:VCALENDAR
VERSION:2.0
PRODID:-//aspaciousplace.com//NONSGML kigkonsult.se iCalcreator 2.30.10//
CALSCALE:GREGORIAN
METHOD:PUBLISH
UID:a694f420-85e8-4dc4-9fa6-9fba0d53a3f5
X-WR-CALDESC:Monthly creativity class for residents and staff at Belmont Se
 nior Living.
X-WR-RELCALID:c8d9cc0e5196a7891245dc0ed24d04b7
X-WR-TIMEZONE:America/Chicago
BEGIN:VTIMEZONE
TZID:America/Chicago
BEGIN:STANDARD
TZNAME:CST
DTSTART:20251102T020000
TZOFFSETFROM:-0500
TZOFFSETTO:-0600
RDATE:20261101T020000
END:STANDARD
BEGIN:DAYLIGHT
TZNAME:CDT
DTSTART:20260308T020000
TZOFFSETFROM:-0600
TZOFFSETTO:-0500
RDATE:20270314T020000
END:DAYLIGHT
END:VTIMEZONE
BEGIN:VEVENT
UID:e7f24377-f2f6-4135-ab78-e7680c437acc
DTSTAMP:20260425T161052Z
DESCRIPTION:Monthly creativity class for residents and staff at Belmont Sen
 ior Living.
DTSTART;TZID=America/Chicago:20260501T140000
DTEND;TZID=America/Chicago:20260501T153000
LOCATION:4310 Bee Caves Ro\, Austin\, TX 78746 US
SUMMARY:Belmont Senior LIving
END:VEVENT
END:VCALENDAR
